Package: SynMut Version: 1.25.0 Command: /Library/Frameworks/R.framework/Resources/bin/R CMD INSTALL SynMut StartedAt: 2025-10-13 15:20:00 -0400 (Mon, 13 Oct 2025) EndedAt: 2025-10-13 15:20:18 -0400 (Mon, 13 Oct 2025) EllapsedTime: 17.9 seconds RetCode: 0 Status: OK