Package: SynMut Version: 1.25.0 Command: rm -rf SynMut.buildbin-libdir && mkdir SynMut.buildbin-libdir && /Users/biocbuild/BBS/utils/build-universal.sh SynMut_1.25.0.tar.gz /Library/Frameworks/R.framework/Resources/bin/R SynMut.buildbin-libdir StartedAt: 2025-10-14 03:12:10 -0400 (Tue, 14 Oct 2025) EndedAt: 2025-10-14 03:12:30 -0400 (Tue, 14 Oct 2025) EllapsedTime: 19.6 seconds RetCode: 0 Status: OK PackageFile: SynMut_1.25.0.tgz PackageFileSize: 317.8 KiB