Package: SynMut Version: 1.25.0 Command: /Library/Frameworks/R.framework/Resources/bin/R CMD INSTALL SynMut StartedAt: 2025-09-29 15:08:02 -0400 (Mon, 29 Sep 2025) EndedAt: 2025-09-29 15:08:07 -0400 (Mon, 29 Sep 2025) EllapsedTime: 5.4 seconds RetCode: 0 Status: OK