Package: SynMut Version: 1.25.0 Command: /Library/Frameworks/R.framework/Resources/bin/R CMD build --keep-empty-dirs --no-resave-data SynMut StartedAt: 2025-09-29 17:52:17 -0400 (Mon, 29 Sep 2025) EndedAt: 2025-09-29 17:52:25 -0400 (Mon, 29 Sep 2025) EllapsedTime: 8.1 seconds RetCode: 0 Status: OK PackageFile: SynMut_1.25.0.tar.gz PackageFileSize: 104.6 KiB