Package: SynMut Version: 1.25.0 Command: rm -rf SynMut.buildbin-libdir && mkdir SynMut.buildbin-libdir && /Users/biocbuild/BBS/utils/build-universal.sh SynMut_1.25.0.tar.gz /Library/Frameworks/R.framework/Resources/bin/R SynMut.buildbin-libdir StartedAt: 2025-09-29 22:54:18 -0400 (Mon, 29 Sep 2025) EndedAt: 2025-09-29 22:54:23 -0400 (Mon, 29 Sep 2025) EllapsedTime: 5.1 seconds RetCode: 0 Status: OK PackageFile: SynMut_1.25.0.tgz PackageFileSize: 319.1 KiB