Package: SynExtend Version: 1.21.1 Command: chmod a+r SynExtend -R && F:\biocbuild\bbs-3.22-bioc\R\bin\R.exe CMD build --keep-empty-dirs --no-resave-data SynExtend StartedAt: 2025-08-14 23:40:31 -0400 (Thu, 14 Aug 2025) EndedAt: 2025-08-14 23:42:41 -0400 (Thu, 14 Aug 2025) EllapsedTime: 129.6 seconds RetCode: 0 Status: OK PackageFile: SynExtend_1.21.1.tar.gz PackageFileSize: 3.068 MiB