Package: SynExtend Version: 1.21.1 Command: rm -rf SynExtend.buildbin-libdir && mkdir SynExtend.buildbin-libdir && F:\biocbuild\bbs-3.22-bioc\R\bin\R.exe CMD INSTALL --build --library=SynExtend.buildbin-libdir SynExtend_1.21.1.tar.gz StartedAt: 2025-08-15 11:27:35 -0400 (Fri, 15 Aug 2025) EndedAt: 2025-08-15 11:29:12 -0400 (Fri, 15 Aug 2025) EllapsedTime: 97.0 seconds RetCode: 0 Status: OK PackageFile: SynExtend_1.21.1.zip PackageFileSize: 4.17 MiB