Package: SynExtend Version: 1.23.0 Command: /home/biocbuild/bbs-3.23-bioc/R/bin/R CMD INSTALL SynExtend StartedAt: 2025-11-20 15:32:54 -0500 (Thu, 20 Nov 2025) EndedAt: 2025-11-20 15:33:21 -0500 (Thu, 20 Nov 2025) EllapsedTime: 27.3 seconds RetCode: 0 Status: OK