Package: SynExtend Version: 1.23.0 Command: /home/biocbuild/bbs-3.23-bioc/R/bin/R CMD check --install=check:SynExtend.install-out.txt --library=/home/biocbuild/bbs-3.23-bioc/R/site-library --timings SynExtend_1.23.0.tar.gz StartedAt: 2025-11-21 04:40:34 -0500 (Fri, 21 Nov 2025) EndedAt: 2025-11-21 04:47:26 -0500 (Fri, 21 Nov 2025) EllapsedTime: 411.6 seconds RetCode: 0 Status: OK CheckDir: SynExtend.Rcheck Warnings: 0