Package: SwathXtend Version: 2.33.0 Command: /home/biocbuild/bbs-3.23-bioc/R/bin/R CMD INSTALL SwathXtend StartedAt: 2025-11-20 15:03:40 -0500 (Thu, 20 Nov 2025) EndedAt: 2025-11-20 15:03:58 -0500 (Thu, 20 Nov 2025) EllapsedTime: 17.4 seconds RetCode: 0 Status: OK