Package: SwathXtend Version: 2.33.0 Command: /Library/Frameworks/R.framework/Resources/bin/R CMD INSTALL SwathXtend StartedAt: 2025-11-17 15:05:50 -0500 (Mon, 17 Nov 2025) EndedAt: 2025-11-17 15:06:31 -0500 (Mon, 17 Nov 2025) EllapsedTime: 40.5 seconds RetCode: 0 Status: OK