Package: SwathXtend Version: 2.33.0 Command: /Library/Frameworks/R.framework/Resources/bin/R CMD build --keep-empty-dirs --no-resave-data SwathXtend StartedAt: 2025-11-17 19:14:00 -0500 (Mon, 17 Nov 2025) EndedAt: 2025-11-17 19:17:06 -0500 (Mon, 17 Nov 2025) EllapsedTime: 186.2 seconds RetCode: 0 Status: OK PackageFile: SwathXtend_2.33.0.tar.gz PackageFileSize: 346.3 MiB