Package: SwathXtend Version: 2.33.0 Command: rm -rf SwathXtend.buildbin-libdir && mkdir SwathXtend.buildbin-libdir && /Users/biocbuild/BBS/utils/build-universal.sh SwathXtend_2.33.0.tar.gz /Library/Frameworks/R.framework/Resources/bin/R SwathXtend.buildbin-libdir StartedAt: 2025-11-19 01:55:56 -0500 (Wed, 19 Nov 2025) EndedAt: 2025-11-19 01:56:41 -0500 (Wed, 19 Nov 2025) EllapsedTime: 45.1 seconds RetCode: 0 Status: OK PackageFile: SwathXtend_2.33.0.tgz PackageFileSize: 346.6 MiB