Package: SurfR Version: 1.7.0 Command: /home/biocbuild/bbs-3.23-bioc/R/bin/R CMD INSTALL SurfR StartedAt: 2025-11-04 15:47:12 -0500 (Tue, 04 Nov 2025) EndedAt: 2025-11-04 15:47:52 -0500 (Tue, 04 Nov 2025) EllapsedTime: 40.1 seconds RetCode: 0 Status: OK