Package: SurfR Version: 1.7.0 Command: /home/biocbuild/bbs-3.23-bioc/R/bin/R CMD build --keep-empty-dirs --no-resave-data SurfR StartedAt: 2025-11-05 20:24:45 -0500 (Wed, 05 Nov 2025) EndedAt: 2025-11-05 20:25:27 -0500 (Wed, 05 Nov 2025) EllapsedTime: 42.0 seconds RetCode: 0 Status: OK PackageFile: SurfR_1.7.0.tar.gz PackageFileSize: 372.7 KiB