Package: SurfR Version: 1.5.2 Command: /Library/Frameworks/R.framework/Resources/bin/R CMD INSTALL SurfR StartedAt: 2025-10-15 15:38:44 -0400 (Wed, 15 Oct 2025) EndedAt: 2025-10-15 15:39:41 -0400 (Wed, 15 Oct 2025) EllapsedTime: 56.9 seconds RetCode: 0 Status: OK