Package: SurfR Version: 1.5.2 Command: /Library/Frameworks/R.framework/Resources/bin/R CMD build --keep-empty-dirs --no-resave-data SurfR StartedAt: 2025-10-14 19:35:12 -0400 (Tue, 14 Oct 2025) EndedAt: 2025-10-14 19:36:12 -0400 (Tue, 14 Oct 2025) EllapsedTime: 59.9 seconds RetCode: 0 Status: OK PackageFile: SurfR_1.5.2.tar.gz PackageFileSize: 372.6 KiB