Package: SurfR Version: 1.5.2 Command: rm -rf SurfR.buildbin-libdir && mkdir SurfR.buildbin-libdir && /Users/biocbuild/BBS/utils/build-universal.sh SurfR_1.5.2.tar.gz /Library/Frameworks/R.framework/Resources/bin/R SurfR.buildbin-libdir StartedAt: 2025-10-16 03:21:00 -0400 (Thu, 16 Oct 2025) EndedAt: 2025-10-16 03:21:59 -0400 (Thu, 16 Oct 2025) EllapsedTime: 59.0 seconds RetCode: 0 Status: OK PackageFile: SurfR_1.5.2.tgz PackageFileSize: 444.9 KiB