Package: SuperCellCyto Version: 0.99.2 Command: /home/biocbuild/bbs-3.22-bioc/R/bin/R CMD INSTALL SuperCellCyto StartedAt: 2025-10-03 15:10:29 -0400 (Fri, 03 Oct 2025) EndedAt: 2025-10-03 15:10:38 -0400 (Fri, 03 Oct 2025) EllapsedTime: 8.9 seconds RetCode: 0 Status: OK