Package: SuperCellCyto Version: 1.0.0 Command: /home/biocbuild/bbs-3.22-bioc/R/bin/R CMD check --install=check:SuperCellCyto.install-out.txt --library=/home/biocbuild/bbs-3.22-bioc/R/site-library --timings SuperCellCyto_1.0.0.tar.gz StartedAt: 2025-10-30 11:10:05 -0400 (Thu, 30 Oct 2025) EndedAt: 2025-10-30 11:18:21 -0400 (Thu, 30 Oct 2025) EllapsedTime: 495.7 seconds RetCode: 0 Status: OK CheckDir: SuperCellCyto.Rcheck Warnings: 0