Package: SuperCellCyto Version: 0.99.2 Command: /home/biocbuild/bbs-3.22-bioc/R/bin/R CMD build --keep-empty-dirs --no-resave-data --md5 SuperCellCyto StartedAt: 2025-10-03 20:21:24 -0400 (Fri, 03 Oct 2025) EndedAt: 2025-10-03 20:23:14 -0400 (Fri, 03 Oct 2025) EllapsedTime: 110.1 seconds RetCode: 0 Status: OK PackageFile: SuperCellCyto_0.99.2.tar.gz PackageFileSize: 4.191 MiB