Package: SuperCellCyto Version: 0.99.3 Command: /Library/Frameworks/R.framework/Resources/bin/R CMD INSTALL SuperCellCyto StartedAt: 2025-10-14 15:13:49 -0400 (Tue, 14 Oct 2025) EndedAt: 2025-10-14 15:14:14 -0400 (Tue, 14 Oct 2025) EllapsedTime: 24.2 seconds RetCode: 0 Status: OK