Package: SuperCellCyto Version: 0.99.2 Command: /Library/Frameworks/R.framework/Resources/bin/R CMD INSTALL SuperCellCyto StartedAt: 2025-10-03 15:06:30 -0400 (Fri, 03 Oct 2025) EndedAt: 2025-10-03 15:06:35 -0400 (Fri, 03 Oct 2025) EllapsedTime: 5.7 seconds RetCode: 0 Status: OK