Package: SuperCellCyto Version: 0.99.2 Command: rm -rf SuperCellCyto.buildbin-libdir && mkdir SuperCellCyto.buildbin-libdir && /Users/biocbuild/BBS/utils/build-universal.sh SuperCellCyto_0.99.2.tar.gz /Library/Frameworks/R.framework/Resources/bin/R SuperCellCyto.buildbin-libdir StartedAt: 2025-10-03 22:57:53 -0400 (Fri, 03 Oct 2025) EndedAt: 2025-10-03 22:57:57 -0400 (Fri, 03 Oct 2025) EllapsedTime: 4.1 seconds RetCode: 0 Status: OK PackageFile: SuperCellCyto_0.99.2.tgz PackageFileSize: 3.695 MiB