Package: SuperCellCyto Version: 0.99.3 Maintainer: Givanna Putri MaintainerEmail: givanna.h at gmail.com git_url: https://git.bioconductor.org/packages/SuperCellCyto git_branch: devel git_last_commit: 906cc13 git_last_commit_date: 2025-10-13 22:39:25 -0400 (Mon, 13 Oct 2025)