Package: Summix Version: 2.17.0 Command: /home/biocbuild/bbs-3.23-bioc/R/bin/R CMD INSTALL Summix StartedAt: 2025-11-20 15:08:07 -0500 (Thu, 20 Nov 2025) EndedAt: 2025-11-20 15:08:19 -0500 (Thu, 20 Nov 2025) EllapsedTime: 11.4 seconds RetCode: 0 Status: OK