Package: Summix Version: 2.15.0 Command: /Library/Frameworks/R.framework/Resources/bin/R CMD INSTALL Summix StartedAt: 2025-10-28 15:12:52 -0400 (Tue, 28 Oct 2025) EndedAt: 2025-10-28 15:13:15 -0400 (Tue, 28 Oct 2025) EllapsedTime: 23.4 seconds RetCode: 0 Status: OK