Package: Summix Version: 2.15.0 Command: rm -rf Summix.buildbin-libdir && mkdir Summix.buildbin-libdir && /Users/biocbuild/BBS/utils/build-universal.sh Summix_2.15.0.tar.gz /Library/Frameworks/R.framework/Resources/bin/R Summix.buildbin-libdir StartedAt: 2025-10-29 02:02:06 -0400 (Wed, 29 Oct 2025) EndedAt: 2025-10-29 02:02:22 -0400 (Wed, 29 Oct 2025) EllapsedTime: 16.1 seconds RetCode: 0 Status: OK PackageFile: Summix_2.15.0.tgz PackageFileSize: 353.7 KiB