Package: Summix Version: 2.15.0 Command: /Library/Frameworks/R.framework/Resources/bin/R CMD INSTALL Summix StartedAt: 2025-10-05 15:05:08 -0400 (Sun, 05 Oct 2025) EndedAt: 2025-10-05 15:05:15 -0400 (Sun, 05 Oct 2025) EllapsedTime: 6.9 seconds RetCode: 0 Status: OK