Package: SummarizedExperiment Version: 1.41.0 Command: /home/biocbuild/bbs-3.23-bioc/R/bin/R CMD check --install=check:SummarizedExperiment.install-out.txt --library=/home/biocbuild/bbs-3.23-bioc/R/site-library --timings SummarizedExperiment_1.41.0.tar.gz StartedAt: 2025-11-07 04:19:50 -0500 (Fri, 07 Nov 2025) EndedAt: 2025-11-07 04:23:29 -0500 (Fri, 07 Nov 2025) EllapsedTime: 219.2 seconds RetCode: 0 Status: OK CheckDir: SummarizedExperiment.Rcheck Warnings: 0