Package: SummarizedExperiment Version: 1.41.0 Command: /home/biocbuild/bbs-3.23-bioc/R/bin/R CMD build --keep-empty-dirs --no-resave-data SummarizedExperiment StartedAt: 2025-11-05 20:24:08 -0500 (Wed, 05 Nov 2025) EndedAt: 2025-11-05 20:24:53 -0500 (Wed, 05 Nov 2025) EllapsedTime: 45.0 seconds RetCode: 0 Status: OK PackageFile: SummarizedExperiment_1.41.0.tar.gz PackageFileSize: 672.7 KiB