Package: SubCellBarCode Version: 1.27.0 Command: /home/biocbuild/bbs-3.23-bioc/R/bin/R CMD INSTALL SubCellBarCode StartedAt: 2025-11-03 15:25:24 -0500 (Mon, 03 Nov 2025) EndedAt: 2025-11-03 15:25:48 -0500 (Mon, 03 Nov 2025) EllapsedTime: 23.3 seconds RetCode: 0 Status: OK