Package: SubCellBarCode Version: 1.27.0 Command: /home/biocbuild/bbs-3.23-bioc/R/bin/R CMD check --install=check:SubCellBarCode.install-out.txt --library=/home/biocbuild/bbs-3.23-bioc/R/site-library --timings SubCellBarCode_1.27.0.tar.gz StartedAt: 2025-11-01 04:05:56 -0400 (Sat, 01 Nov 2025) EndedAt: 2025-11-01 04:14:08 -0400 (Sat, 01 Nov 2025) EllapsedTime: 491.6 seconds RetCode: 0 Status: WARNINGS CheckDir: SubCellBarCode.Rcheck Warnings: 1