Package: SubCellBarCode Version: 1.27.0 Command: /home/biocbuild/bbs-3.23-bioc/R/bin/R CMD build --keep-empty-dirs --no-resave-data SubCellBarCode StartedAt: 2025-10-31 20:30:13 -0400 (Fri, 31 Oct 2025) EndedAt: 2025-10-31 20:34:53 -0400 (Fri, 31 Oct 2025) EllapsedTime: 280.3 seconds RetCode: 0 Status: OK PackageFile: SubCellBarCode_1.27.0.tar.gz PackageFileSize: 2.306 MiB