Package: StructuralVariantAnnotation Version: 1.27.0 Command: /home/biocbuild/bbs-3.23-bioc/R/bin/R CMD INSTALL StructuralVariantAnnotation StartedAt: 2025-11-03 15:49:17 -0500 (Mon, 03 Nov 2025) EndedAt: 2025-11-03 15:49:57 -0500 (Mon, 03 Nov 2025) EllapsedTime: 40.5 seconds RetCode: 0 Status: OK