Package: StructuralVariantAnnotation Version: 1.27.0 Command: /home/biocbuild/bbs-3.23-bioc/R/bin/R CMD check --install=check:StructuralVariantAnnotation.install-out.txt --library=/home/biocbuild/bbs-3.23-bioc/R/site-library --timings StructuralVariantAnnotation_1.27.0.tar.gz StartedAt: 2025-11-03 03:58:14 -0500 (Mon, 03 Nov 2025) EndedAt: 2025-11-03 04:06:35 -0500 (Mon, 03 Nov 2025) EllapsedTime: 500.7 seconds RetCode: 0 Status: OK CheckDir: StructuralVariantAnnotation.Rcheck Warnings: 0