Package: Structstrings Version: 1.25.3 Command: /home/biocbuild/R/R/bin/R CMD check --install=check:Structstrings.install-out.txt --library=/home/biocbuild/R/R/site-library --no-vignettes --timings Structstrings_1.25.3.tar.gz StartedAt: 2025-10-17 14:12:31 -0000 (Fri, 17 Oct 2025) EndedAt: 2025-10-17 14:16:45 -0000 (Fri, 17 Oct 2025) EllapsedTime: 254.3 seconds RetCode: 0 Status: OK CheckDir: Structstrings.Rcheck Warnings: 0