Package: Structstrings Version: 1.27.0 Command: /home/biocbuild/bbs-3.23-bioc/R/bin/R CMD INSTALL Structstrings StartedAt: 2025-11-03 15:16:10 -0500 (Mon, 03 Nov 2025) EndedAt: 2025-11-03 15:16:26 -0500 (Mon, 03 Nov 2025) EllapsedTime: 16.3 seconds RetCode: 0 Status: OK