Package: Structstrings Version: 1.27.0 Command: /home/biocbuild/bbs-3.23-bioc/R/bin/R CMD check --install=check:Structstrings.install-out.txt --library=/home/biocbuild/bbs-3.23-bioc/R/site-library --timings Structstrings_1.27.0.tar.gz StartedAt: 2025-11-05 04:21:13 -0500 (Wed, 05 Nov 2025) EndedAt: 2025-11-05 04:24:24 -0500 (Wed, 05 Nov 2025) EllapsedTime: 191.2 seconds RetCode: 0 Status: OK CheckDir: Structstrings.Rcheck Warnings: 0