Package: Structstrings Version: 1.25.3 Command: /Library/Frameworks/R.framework/Resources/bin/R CMD check --install=check:Structstrings.install-out.txt --library=/Library/Frameworks/R.framework/Resources/library --no-vignettes --timings Structstrings_1.25.3.tar.gz StartedAt: 2025-10-13 01:32:22 -0400 (Mon, 13 Oct 2025) EndedAt: 2025-10-13 01:35:54 -0400 (Mon, 13 Oct 2025) EllapsedTime: 212.5 seconds RetCode: 0 Status: OK CheckDir: Structstrings.Rcheck Warnings: 0