Package: Streamer Version: 1.55.1 Command: /home/biocbuild/bbs-3.23-bioc/R/bin/R CMD INSTALL Streamer StartedAt: 2025-10-22 21:06:51 -0000 (Wed, 22 Oct 2025) EndedAt: 2025-10-22 21:06:57 -0000 (Wed, 22 Oct 2025) EllapsedTime: 6.1 seconds RetCode: 0 Status: OK