Package: Streamer Version: 1.55.1 Command: /home/biocbuild/bbs-3.23-bioc/R/bin/R CMD build --keep-empty-dirs --no-resave-data Streamer StartedAt: 2025-10-23 00:44:29 -0000 (Thu, 23 Oct 2025) EndedAt: 2025-10-23 00:44:47 -0000 (Thu, 23 Oct 2025) EllapsedTime: 18.0 seconds RetCode: 0 Status: OK PackageFile: Streamer_1.55.1.tar.gz PackageFileSize: 134.1 KiB