Package: Streamer Version: 1.55.1 Command: /Library/Frameworks/R.framework/Resources/bin/R CMD INSTALL Streamer StartedAt: 2025-10-22 15:16:16 -0400 (Wed, 22 Oct 2025) EndedAt: 2025-10-22 15:16:30 -0400 (Wed, 22 Oct 2025) EllapsedTime: 14.2 seconds RetCode: 0 Status: OK