Package: Streamer Version: 1.55.1 Command: /Library/Frameworks/R.framework/Resources/bin/R CMD build --keep-empty-dirs --no-resave-data Streamer StartedAt: 2025-10-22 18:53:30 -0400 (Wed, 22 Oct 2025) EndedAt: 2025-10-22 18:53:55 -0400 (Wed, 22 Oct 2025) EllapsedTime: 25.1 seconds RetCode: 0 Status: OK PackageFile: Streamer_1.55.1.tar.gz PackageFileSize: 133.7 KiB