Package: Streamer Version: 1.55.1 Command: /Library/Frameworks/R.framework/Resources/bin/R CMD INSTALL Streamer StartedAt: 2025-09-29 15:07:08 -0400 (Mon, 29 Sep 2025) EndedAt: 2025-09-29 15:07:12 -0400 (Mon, 29 Sep 2025) EllapsedTime: 4.0 seconds RetCode: 0 Status: OK