Package: Streamer Version: 1.55.1 Command: /Library/Frameworks/R.framework/Resources/bin/R CMD build --keep-empty-dirs --no-resave-data Streamer StartedAt: 2025-09-29 17:50:39 -0400 (Mon, 29 Sep 2025) EndedAt: 2025-09-29 17:50:49 -0400 (Mon, 29 Sep 2025) EllapsedTime: 9.1 seconds RetCode: 0 Status: OK PackageFile: Streamer_1.55.1.tar.gz PackageFileSize: 134.2 KiB