Package: Statial Version: 1.11.7 Command: /home/biocbuild/bbs-3.22-bioc/R/bin/R CMD check --install=check:Statial.install-out.txt --library=/home/biocbuild/bbs-3.22-bioc/R/site-library --timings Statial_1.11.7.tar.gz StartedAt: 2025-10-25 04:40:55 -0400 (Sat, 25 Oct 2025) EndedAt: 2025-10-25 05:01:29 -0400 (Sat, 25 Oct 2025) EllapsedTime: 1234.2 seconds RetCode: 0 Status: OK CheckDir: Statial.Rcheck Warnings: 0