Package: Statial Version: 1.13.0 Command: /home/biocbuild/bbs-3.23-bioc/R/bin/R CMD INSTALL Statial StartedAt: 2025-11-06 15:23:18 -0500 (Thu, 06 Nov 2025) EndedAt: 2025-11-06 15:23:47 -0500 (Thu, 06 Nov 2025) EllapsedTime: 28.1 seconds RetCode: 0 Status: OK