Package: Statial Version: 1.13.0 Command: /home/biocbuild/bbs-3.23-bioc/R/bin/R CMD build --keep-empty-dirs --no-resave-data Statial StartedAt: 2025-11-06 20:15:12 -0500 (Thu, 06 Nov 2025) EndedAt: 2025-11-06 20:24:26 -0500 (Thu, 06 Nov 2025) EllapsedTime: 553.9 seconds RetCode: 0 Status: OK PackageFile: Statial_1.13.0.tar.gz PackageFileSize: 9.246 MiB