Package: Statial Version: 1.11.6 Command: /Library/Frameworks/R.framework/Resources/bin/R CMD build --keep-empty-dirs --no-resave-data Statial StartedAt: 2025-10-03 19:15:18 -0400 (Fri, 03 Oct 2025) EndedAt: 2025-10-03 19:28:18 -0400 (Fri, 03 Oct 2025) EllapsedTime: 779.3 seconds RetCode: 0 Status: OK PackageFile: Statial_1.11.6.tar.gz PackageFileSize: 9.641 MiB